BEGIN:VCALENDAR
VERSION:2.0
PRODID:-//Holne Chase - ECPv6.15.18//NONSGML v1.0//EN
CALSCALE:GREGORIAN
METHOD:PUBLISH
X-ORIGINAL-URL:https://holnechase.com
X-WR-CALDESC:Events for Holne Chase
REFRESH-INTERVAL;VALUE=DURATION:PT1H
X-Robots-Tag:noindex
X-PUBLISHED-TTL:PT1H
BEGIN:VTIMEZONE
TZID:Europe/London
BEGIN:DAYLIGHT
TZOFFSETFROM:+0000
TZOFFSETTO:+0100
TZNAME:BST
DTSTART:20240331T010000
END:DAYLIGHT
BEGIN:STANDARD
TZOFFSETFROM:+0100
TZOFFSETTO:+0000
TZNAME:GMT
DTSTART:20241027T010000
END:STANDARD
BEGIN:DAYLIGHT
TZOFFSETFROM:+0000
TZOFFSETTO:+0100
TZNAME:BST
DTSTART:20250330T010000
END:DAYLIGHT
BEGIN:STANDARD
TZOFFSETFROM:+0100
TZOFFSETTO:+0000
TZNAME:GMT
DTSTART:20251026T010000
END:STANDARD
BEGIN:DAYLIGHT
TZOFFSETFROM:+0000
TZOFFSETTO:+0100
TZNAME:BST
DTSTART:20260329T010000
END:DAYLIGHT
BEGIN:STANDARD
TZOFFSETFROM:+0100
TZOFFSETTO:+0000
TZNAME:GMT
DTSTART:20261025T010000
END:STANDARD
END:VTIMEZONE
BEGIN:VEVENT
DTSTART;VALUE=DATE:20251202
DTEND;VALUE=DATE:20251203
DTSTAMP:20260425T211723
CREATED:20240815T140259Z
LAST-MODIFIED:20251012T155658Z
UID:3362-1764633600-1764719999@holnechase.com
SUMMARY:Flu Immunisations
DESCRIPTION:
URL:https://holnechase.com/event/flu-immunisations/
CATEGORIES:Early Years,Year 1,Year 2,Year 3,Year 4,Year 5,Year 6
END:VEVENT
BEGIN:VEVENT
DTSTART;TZID=Europe/London:20251210T150000
DTEND;TZID=Europe/London:20251210T180000
DTSTAMP:20260425T211723
CREATED:20240909T190244Z
LAST-MODIFIED:20250907T141536Z
UID:3457-1765378800-1765389600@holnechase.com
SUMMARY:Friends of Holne Chase - Christmas Fair
DESCRIPTION:
URL:https://holnechase.com/event/friends-of-holne-chase-christmas-fair/
LOCATION:Holne Chase Primary School\, Buckingham Road\, Milton Keynes\, County\, MK3 5HP\, United Kingdom
CATEGORIES:Early Years,Year 1,Year 2,Year 3,Year 4,Year 5,Year 6
ORGANIZER;CN="Friends of Holne Chase":MAILTO:fohc@holnechase.org
END:VEVENT
BEGIN:VEVENT
DTSTART;VALUE=DATE:20251211
DTEND;VALUE=DATE:20251212
DTSTAMP:20260425T211723
CREATED:20241209T221143Z
LAST-MODIFIED:20251012T155227Z
UID:3587-1765411200-1765497599@holnechase.com
SUMMARY:Christmas Jumper Day
DESCRIPTION:Children are invited to come into school wearing their Christmas jumpers.
URL:https://holnechase.com/event/christmas-jumper-day/
CATEGORIES:Early Years,Year 1,Year 2,Year 3,Year 4,Year 5,Year 6
END:VEVENT
BEGIN:VEVENT
DTSTART;TZID=Europe/London:20251211T120000
DTEND;TZID=Europe/London:20251211T130000
DTSTAMP:20260425T211723
CREATED:20241206T093751Z
LAST-MODIFIED:20251012T155955Z
UID:3584-1765454400-1765458000@holnechase.com
SUMMARY:Christmas Lunch
DESCRIPTION:Please log on to ParentPay to book your child’s Christmas lunch for this day.
URL:https://holnechase.com/event/christmas-lunch/
LOCATION:Holne Chase Primary School\, Buckingham Road\, Milton Keynes\, County\, MK3 5HP\, United Kingdom
CATEGORIES:Early Years,Year 1,Year 2,Year 3,Year 4,Year 5,Year 6
ORGANIZER;CN="David Killick":MAILTO:office@holnechase.org
END:VEVENT
BEGIN:VEVENT
DTSTART;TZID=Europe/London:20251217T120000
DTEND;TZID=Europe/London:20251217T153000
DTSTAMP:20260425T211723
CREATED:20240815T140448Z
LAST-MODIFIED:20251012T155907Z
UID:3366-1765972800-1765985400@holnechase.com
SUMMARY:EYFS - Stick Man Theatre Trip
DESCRIPTION:
URL:https://holnechase.com/event/eyfs-the-jolly-postman-visit/
LOCATION:Royal & Derngate Theatre\, Guildhall Road\, Northampton\, NN1 1DP
CATEGORIES:Early Years
ORGANIZER;CN="Miss Bray":MAILTO:reception@holnechase.org
END:VEVENT
BEGIN:VEVENT
DTSTART;VALUE=DATE:20251219
DTEND;VALUE=DATE:20251220
DTSTAMP:20260425T211723
CREATED:20240815T140524Z
LAST-MODIFIED:20251012T160146Z
UID:3368-1766102400-1766188799@holnechase.com
SUMMARY:Last Day of Autumn 2
DESCRIPTION:
URL:https://holnechase.com/event/last-day-of-autumn-2/
CATEGORIES:Early Years,Year 1,Year 2,Year 3,Year 4,Year 5,Year 6
END:VEVENT
END:VCALENDAR