BEGIN:VCALENDAR
VERSION:2.0
PRODID:-//Holne Chase - ECPv6.15.18//NONSGML v1.0//EN
CALSCALE:GREGORIAN
METHOD:PUBLISH
X-WR-CALNAME:Holne Chase
X-ORIGINAL-URL:https://holnechase.com
X-WR-CALDESC:Events for Holne Chase
REFRESH-INTERVAL;VALUE=DURATION:PT1H
X-Robots-Tag:noindex
X-PUBLISHED-TTL:PT1H
BEGIN:VTIMEZONE
TZID:Europe/London
BEGIN:DAYLIGHT
TZOFFSETFROM:+0000
TZOFFSETTO:+0100
TZNAME:BST
DTSTART:20240331T010000
END:DAYLIGHT
BEGIN:STANDARD
TZOFFSETFROM:+0100
TZOFFSETTO:+0000
TZNAME:GMT
DTSTART:20241027T010000
END:STANDARD
BEGIN:DAYLIGHT
TZOFFSETFROM:+0000
TZOFFSETTO:+0100
TZNAME:BST
DTSTART:20250330T010000
END:DAYLIGHT
BEGIN:STANDARD
TZOFFSETFROM:+0100
TZOFFSETTO:+0000
TZNAME:GMT
DTSTART:20251026T010000
END:STANDARD
BEGIN:DAYLIGHT
TZOFFSETFROM:+0000
TZOFFSETTO:+0100
TZNAME:BST
DTSTART:20260329T010000
END:DAYLIGHT
BEGIN:STANDARD
TZOFFSETFROM:+0100
TZOFFSETTO:+0000
TZNAME:GMT
DTSTART:20261025T010000
END:STANDARD
END:VTIMEZONE
BEGIN:VEVENT
DTSTART;VALUE=DATE:20250908
DTEND;VALUE=DATE:20250911
DTSTAMP:20260426T032214
CREATED:20240815T135543Z
LAST-MODIFIED:20250420T194653Z
UID:3348-1757289600-1757548799@holnechase.com
SUMMARY:EYFS - Part Time (see notes for timings)
DESCRIPTION:Mornings – 8:45am – 11:15am \nAfternoons – 12:30pm – 3pm
URL:https://holnechase.com/event/eyfs-part-time-see-notes-for-timings/
CATEGORIES:Early Years
ORGANIZER;CN="Miss Bray":MAILTO:reception@holnechase.org
END:VEVENT
END:VCALENDAR