BEGIN:VCALENDAR
VERSION:2.0
PRODID:-//Holne Chase - ECPv6.15.18//NONSGML v1.0//EN
CALSCALE:GREGORIAN
METHOD:PUBLISH
X-WR-CALNAME:Holne Chase
X-ORIGINAL-URL:https://holnechase.com
X-WR-CALDESC:Events for Holne Chase
REFRESH-INTERVAL;VALUE=DURATION:PT1H
X-Robots-Tag:noindex
X-PUBLISHED-TTL:PT1H
BEGIN:VTIMEZONE
TZID:Europe/London
BEGIN:DAYLIGHT
TZOFFSETFROM:+0000
TZOFFSETTO:+0100
TZNAME:BST
DTSTART:20240331T010000
END:DAYLIGHT
BEGIN:STANDARD
TZOFFSETFROM:+0100
TZOFFSETTO:+0000
TZNAME:GMT
DTSTART:20241027T010000
END:STANDARD
BEGIN:DAYLIGHT
TZOFFSETFROM:+0000
TZOFFSETTO:+0100
TZNAME:BST
DTSTART:20250330T010000
END:DAYLIGHT
BEGIN:STANDARD
TZOFFSETFROM:+0100
TZOFFSETTO:+0000
TZNAME:GMT
DTSTART:20251026T010000
END:STANDARD
BEGIN:DAYLIGHT
TZOFFSETFROM:+0000
TZOFFSETTO:+0100
TZNAME:BST
DTSTART:20260329T010000
END:DAYLIGHT
BEGIN:STANDARD
TZOFFSETFROM:+0100
TZOFFSETTO:+0000
TZNAME:GMT
DTSTART:20261025T010000
END:STANDARD
END:VTIMEZONE
BEGIN:VEVENT
DTSTART;TZID=Europe/London:20251113T151500
DTEND;TZID=Europe/London:20251113T190000
DTSTAMP:20260426T001349
CREATED:20250925T211025Z
LAST-MODIFIED:20250925T211025Z
UID:3904-1763046900-1763060400@holnechase.com
SUMMARY:K-Pop Disco Event
DESCRIPTION:EYFS – Y2 @ 3:15pm – 4:15pm\n\n\nY3 & Y4 @ 4:30pm – 5:30pm\n\n\nY5 & Y6 @ 5:45pm – 7pm\n\n\nClick here to book your child’s ticket.
URL:https://holnechase.com/event/k-pop-disco-event/
LOCATION:Holne Chase Primary School\, Buckingham Road\, Milton Keynes\, County\, MK3 5HP\, United Kingdom
CATEGORIES:Early Years,Year 1,Year 2,Year 3,Year 4,Year 5,Year 6
ORGANIZER;CN="Friends of Holne Chase":MAILTO:fohc@holnechase.org
END:VEVENT
END:VCALENDAR