BEGIN:VCALENDAR
VERSION:2.0
PRODID:-//Holne Chase - ECPv6.15.18//NONSGML v1.0//EN
CALSCALE:GREGORIAN
METHOD:PUBLISH
X-ORIGINAL-URL:https://holnechase.com
X-WR-CALDESC:Events for Holne Chase
REFRESH-INTERVAL;VALUE=DURATION:PT1H
X-Robots-Tag:noindex
X-PUBLISHED-TTL:PT1H
BEGIN:VTIMEZONE
TZID:Europe/London
BEGIN:DAYLIGHT
TZOFFSETFROM:+0000
TZOFFSETTO:+0100
TZNAME:BST
DTSTART:20240331T010000
END:DAYLIGHT
BEGIN:STANDARD
TZOFFSETFROM:+0100
TZOFFSETTO:+0000
TZNAME:GMT
DTSTART:20241027T010000
END:STANDARD
BEGIN:DAYLIGHT
TZOFFSETFROM:+0000
TZOFFSETTO:+0100
TZNAME:BST
DTSTART:20250330T010000
END:DAYLIGHT
BEGIN:STANDARD
TZOFFSETFROM:+0100
TZOFFSETTO:+0000
TZNAME:GMT
DTSTART:20251026T010000
END:STANDARD
BEGIN:DAYLIGHT
TZOFFSETFROM:+0000
TZOFFSETTO:+0100
TZNAME:BST
DTSTART:20260329T010000
END:DAYLIGHT
BEGIN:STANDARD
TZOFFSETFROM:+0100
TZOFFSETTO:+0000
TZNAME:GMT
DTSTART:20261025T010000
END:STANDARD
END:VTIMEZONE
BEGIN:VEVENT
DTSTART;TZID=Europe/London:20250707T190000
DTEND;TZID=Europe/London:20250707T203000
DTSTAMP:20260424T022509
CREATED:20250630T144938Z
LAST-MODIFIED:20250630T150033Z
UID:3825-1751914800-1751920200@holnechase.com
SUMMARY:Families in Partnership
DESCRIPTION:
URL:https://holnechase.com/event/families-in-partnership/
LOCATION:Holne Chase Primary School\, Buckingham Road\, Milton Keynes\, County\, MK3 5HP\, United Kingdom
CATEGORIES:Early Years,Year 1,Year 2,Year 3,Year 4,Year 5,Year 6
END:VEVENT
BEGIN:VEVENT
DTSTART;VALUE=DATE:20250707
DTEND;VALUE=DATE:20250708
DTSTAMP:20260424T022509
CREATED:20240620T195320Z
LAST-MODIFIED:20250420T193917Z
UID:3281-1751846400-1751932799@holnechase.com
SUMMARY:TRANSITION DAY
DESCRIPTION:Children will spend the day with their new teacher. Drop your child off at their current classroom door but pick them up from their new classroom where you will have the opportunity to meet their new teacher.
URL:https://holnechase.com/event/transition-day/
LOCATION:County
CATEGORIES:Early Years,Year 1,Year 2,Year 3,Year 4,Year 5
ORGANIZER;CN="Holne Chase School":MAILTO:office@holnechase.org
END:VEVENT
BEGIN:VEVENT
DTSTART;VALUE=DATE:20250626
DTEND;VALUE=DATE:20250627
DTSTAMP:20260424T022509
CREATED:20250225T221114Z
LAST-MODIFIED:20250225T221114Z
UID:3699-1750896000-1750982399@holnechase.com
SUMMARY:Canal River Trust Workshops
DESCRIPTION:
URL:https://holnechase.com/event/canal-river-trust-workshops/
LOCATION:Holne Chase Primary School\, Buckingham Road\, Milton Keynes\, County\, MK3 5HP\, United Kingdom
CATEGORIES:Year 1,Year 2,Year 3,Year 4,Year 5,Year 6
END:VEVENT
BEGIN:VEVENT
DTSTART;VALUE=DATE:20250625
DTEND;VALUE=DATE:20250626
DTSTAMP:20260424T022509
CREATED:20250420T193754Z
LAST-MODIFIED:20250420T193754Z
UID:3739-1750809600-1750895999@holnechase.com
SUMMARY:Y1 - Y3: Lego Coding Workshops
DESCRIPTION:
URL:https://holnechase.com/event/y1-y3-lego-coding-workshops/
LOCATION:Holne Chase Primary School\, Buckingham Road\, Milton Keynes\, County\, MK3 5HP\, United Kingdom
CATEGORIES:Year 1,Year 2,Year 3
END:VEVENT
BEGIN:VEVENT
DTSTART;VALUE=DATE:20250623
DTEND;VALUE=DATE:20250629
DTSTAMP:20260424T022509
CREATED:20250519T204146Z
LAST-MODIFIED:20250519T204252Z
UID:3785-1750636800-1751155199@holnechase.com
SUMMARY:CAREERS WEEK
DESCRIPTION:This year’s theme is STEM careers where children will be learning about jobs involving science\, technology\, engineering and mathematics.
URL:https://holnechase.com/event/careers-week/
LOCATION:County
CATEGORIES:Early Years,Year 1,Year 2,Year 3,Year 4,Year 5,Year 6
END:VEVENT
BEGIN:VEVENT
DTSTART;TZID=Europe/London:20250606T140000
DTEND;TZID=Europe/London:20250606T150000
DTSTAMP:20260424T022509
CREATED:20250519T203916Z
LAST-MODIFIED:20250519T203916Z
UID:3781-1749218400-1749222000@holnechase.com
SUMMARY:Changemaker Presentation
DESCRIPTION:Join us at 2pm on the school playground (weather dependent) to learn all about our Changemaker Week where the children will present our first ever ‘Changemaker Project’.
URL:https://holnechase.com/event/changemaker-presentation/
LOCATION:Holne Chase Primary School\, Buckingham Road\, Milton Keynes\, County\, MK3 5HP\, United Kingdom
CATEGORIES:Early Years,Year 1,Year 2,Year 3,Year 4,Year 5,Year 6
END:VEVENT
BEGIN:VEVENT
DTSTART;VALUE=DATE:20250602
DTEND;VALUE=DATE:20250607
DTSTAMP:20260424T022509
CREATED:20250225T220612Z
LAST-MODIFIED:20250225T220612Z
UID:3690-1748822400-1749254399@holnechase.com
SUMMARY:Changemaker Week
DESCRIPTION:As part of our ‘Building Aspiration for Tomorrow’s Changemakers’ vision\, each class will be spending the week working on making a change for a special cause.
URL:https://holnechase.com/event/changemaker-week/
LOCATION:Holne Chase Primary School\, Buckingham Road\, Milton Keynes\, County\, MK3 5HP\, United Kingdom
CATEGORIES:Early Years,Year 1,Year 2,Year 3,Year 4,Year 5,Year 6
END:VEVENT
BEGIN:VEVENT
DTSTART;VALUE=DATE:20250602
DTEND;VALUE=DATE:20250603
DTSTAMP:20260424T022509
CREATED:20240815T141551Z
LAST-MODIFIED:20240815T141551Z
UID:3400-1748822400-1748908799@holnechase.com
SUMMARY:Start of Summer 2
DESCRIPTION:
URL:https://holnechase.com/event/start-of-summer-2-2/
LOCATION:County
CATEGORIES:Early Years,Year 1,Year 2,Year 3,Year 4,Year 5,Year 6
END:VEVENT
BEGIN:VEVENT
DTSTART;VALUE=DATE:20250523
DTEND;VALUE=DATE:20250524
DTSTAMP:20260424T022509
CREATED:20240815T141519Z
LAST-MODIFIED:20240815T141519Z
UID:3398-1747958400-1748044799@holnechase.com
SUMMARY:Last Day of Summer 1
DESCRIPTION:
URL:https://holnechase.com/event/last-day-of-summer-1/
LOCATION:County
CATEGORIES:Early Years,Year 1,Year 2,Year 3,Year 4,Year 5,Year 6
END:VEVENT
BEGIN:VEVENT
DTSTART;VALUE=DATE:20250522
DTEND;VALUE=DATE:20250523
DTSTAMP:20260424T022509
CREATED:20240815T141427Z
LAST-MODIFIED:20240815T141427Z
UID:3394-1747872000-1747958399@holnechase.com
SUMMARY:Dojo Reward - Martial Arts Workshop
DESCRIPTION:
URL:https://holnechase.com/event/dojo-reward-martial-arts-workshop/
LOCATION:County
CATEGORIES:Early Years,Year 1,Year 2,Year 3,Year 4,Year 5,Year 6
END:VEVENT
BEGIN:VEVENT
DTSTART;VALUE=DATE:20250521
DTEND;VALUE=DATE:20250524
DTSTAMP:20260424T022509
CREATED:20250225T220307Z
LAST-MODIFIED:20250225T220307Z
UID:3688-1747785600-1748044799@holnechase.com
SUMMARY:Y1 - Y6 Money Sense Workshops
DESCRIPTION:
URL:https://holnechase.com/event/y1-y6-money-sense-workshops/
LOCATION:Holne Chase Primary School\, Buckingham Road\, Milton Keynes\, County\, MK3 5HP\, United Kingdom
CATEGORIES:Year 1,Year 2,Year 3,Year 4,Year 5,Year 6
END:VEVENT
BEGIN:VEVENT
DTSTART;TZID=Europe/London:20250509T120000
DTEND;TZID=Europe/London:20250509T150000
DTSTAMP:20260424T022509
CREATED:20250420T192940Z
LAST-MODIFIED:20250420T192940Z
UID:3729-1746792000-1746802800@holnechase.com
SUMMARY:VE Day Celebration Picnic
DESCRIPTION:You are invited to attend school from 12pm to join us on the field for a family picnic to celebrate 80 years since VE Day.
URL:https://holnechase.com/event/ve-day-celebration-picnic/
LOCATION:Holne Chase Primary School\, Buckingham Road\, Milton Keynes\, County\, MK3 5HP\, United Kingdom
CATEGORIES:Early Years,Year 1,Year 2,Year 3,Year 4,Year 5,Year 6
END:VEVENT
BEGIN:VEVENT
DTSTART;TZID=Europe/London:20250428T190000
DTEND;TZID=Europe/London:20250428T203000
DTSTAMP:20260424T022509
CREATED:20250127T202944Z
LAST-MODIFIED:20250127T202944Z
UID:3654-1745866800-1745872200@holnechase.com
SUMMARY:Families in Partnership
DESCRIPTION:
URL:https://holnechase.com/event/families-in-partnership-4/
LOCATION:Holne Chase Primary School\, Buckingham Road\, Milton Keynes\, County\, MK3 5HP\, United Kingdom
CATEGORIES:Early Years,Year 1,Year 2,Year 3,Year 4,Year 5,Year 6
END:VEVENT
BEGIN:VEVENT
DTSTART;TZID=Europe/London:20250423T123000
DTEND;TZID=Europe/London:20250423T150000
DTSTAMP:20260424T022509
CREATED:20241024T133342Z
LAST-MODIFIED:20241024T133342Z
UID:3530-1745411400-1745420400@holnechase.com
SUMMARY:Y3 & Y4 Hockey Tournament
DESCRIPTION:
URL:https://holnechase.com/event/y3-y4-hockey-tournament/
LOCATION:Moulton College\, Pitsford Road\, Northampton\, NN3 7QL\, United Kingdom
CATEGORIES:Year 3,Year 4
ORGANIZER;CN="Holne Chase School":MAILTO:office@holnechase.org
END:VEVENT
BEGIN:VEVENT
DTSTART;VALUE=DATE:20250422
DTEND;VALUE=DATE:20250423
DTSTAMP:20260424T022509
CREATED:20240815T141119Z
LAST-MODIFIED:20240815T141119Z
UID:3388-1745280000-1745366399@holnechase.com
SUMMARY:First Day of Summer 1
DESCRIPTION:
URL:https://holnechase.com/event/first-day-of-summer-1/
LOCATION:County
CATEGORIES:Early Years,Year 1,Year 2,Year 3,Year 4,Year 5,Year 6
END:VEVENT
BEGIN:VEVENT
DTSTART;VALUE=DATE:20250404
DTEND;VALUE=DATE:20250405
DTSTAMP:20260424T022509
CREATED:20240815T141046Z
LAST-MODIFIED:20240815T141046Z
UID:3386-1743724800-1743811199@holnechase.com
SUMMARY:Last Day of Spring 2
DESCRIPTION:
URL:https://holnechase.com/event/last-day-of-spring-2/
LOCATION:County
CATEGORIES:Early Years,Year 1,Year 2,Year 3,Year 4,Year 5,Year 6
END:VEVENT
BEGIN:VEVENT
DTSTART;VALUE=DATE:20250403
DTEND;VALUE=DATE:20250404
DTSTAMP:20260424T022509
CREATED:20240815T141019Z
LAST-MODIFIED:20240815T141019Z
UID:3384-1743638400-1743724799@holnechase.com
SUMMARY:Dojo Reward - Ark Farm
DESCRIPTION:
URL:https://holnechase.com/event/dojo-reward-ark-farm/
LOCATION:County
CATEGORIES:Early Years,Year 1,Year 2,Year 3,Year 4,Year 5,Year 6
END:VEVENT
BEGIN:VEVENT
DTSTART;TZID=Europe/London:20250328T140000
DTEND;TZID=Europe/London:20250328T150000
DTSTAMP:20260424T022509
CREATED:20250227T224515Z
LAST-MODIFIED:20250227T224515Z
UID:3710-1743170400-1743174000@holnechase.com
SUMMARY:Mother's Day Event (see notes for details)
DESCRIPTION:On Friday 28th March\, we will be holding a Mother’s Day event by inviting a female relative of each child into school for 30 minutes to enjoy some cake and quality time. \nThe event will take place in two parts to ensure that we can fit all attendees into the school hall. \nEarly Years\, Year 1 & Year 2 are invited to attend from 2pm \nYear 3 – Year 3 are invited to attend from 2:30pm.
URL:https://holnechase.com/event/mothers-day-event-see-notes-for-details/
LOCATION:Holne Chase Primary School\, Buckingham Road\, Milton Keynes\, County\, MK3 5HP\, United Kingdom
CATEGORIES:Early Years,Year 1,Year 2,Year 3,Year 4,Year 5,Year 6
END:VEVENT
BEGIN:VEVENT
DTSTART;VALUE=DATE:20250321
DTEND;VALUE=DATE:20250322
DTSTAMP:20260424T022509
CREATED:20250224T211137Z
LAST-MODIFIED:20250224T211137Z
UID:3679-1742515200-1742601599@holnechase.com
SUMMARY:Red Nose Day
DESCRIPTION:Children are invited to attend school in their pyjamas for a £1 donation. \n50% of the money raised will go to the Red Nose Day charity and the other 50% will go to the Friends of Holne Chase.
URL:https://holnechase.com/event/red-nose-day/
LOCATION:County
CATEGORIES:Early Years,Year 1,Year 2,Year 3,Year 4,Year 5,Year 6
END:VEVENT
BEGIN:VEVENT
DTSTART;VALUE=DATE:20250317
DTEND;VALUE=DATE:20250322
DTSTAMP:20260424T022509
CREATED:20240815T140951Z
LAST-MODIFIED:20240815T140951Z
UID:3382-1742169600-1742601599@holnechase.com
SUMMARY:Book Fair from 3pm - 4pm
DESCRIPTION:
URL:https://holnechase.com/event/book-fair-from-3pm-4pm/
LOCATION:County
CATEGORIES:Early Years,Year 1,Year 2,Year 3,Year 4,Year 5,Year 6
END:VEVENT
BEGIN:VEVENT
DTSTART;VALUE=DATE:20250306
DTEND;VALUE=DATE:20250307
DTSTAMP:20260424T022509
CREATED:20240815T140845Z
LAST-MODIFIED:20250224T210454Z
UID:3380-1741219200-1741305599@holnechase.com
SUMMARY:World Book Day
DESCRIPTION:
URL:https://holnechase.com/event/world-book-day-2/
LOCATION:County
CATEGORIES:Early Years,Year 1,Year 2,Year 3,Year 4,Year 5,Year 6
END:VEVENT
BEGIN:VEVENT
DTSTART;TZID=Europe/London:20250227T150000
DTEND;TZID=Europe/London:20250227T170000
DTSTAMP:20260424T022509
CREATED:20250224T210748Z
LAST-MODIFIED:20250224T210819Z
UID:3677-1740668400-1740675600@holnechase.com
SUMMARY:FoHC - Film Event
DESCRIPTION:This will take place from 3pm – 5pm. Tickets can be booked via the Friends of Holne Chase Facebook Page. \nFilms: \n\nEarly Years – Toy Story\nYear 1 & Year 2 – Monsters Inc.\nYear 3 & Year 4 – Elemental\nYear 5 & Year 6 – Mario Bros.
URL:https://holnechase.com/event/fohc-film-event/
LOCATION:Holne Chase Primary School\, Buckingham Road\, Milton Keynes\, County\, MK3 5HP\, United Kingdom
CATEGORIES:Early Years,Year 1,Year 2,Year 3,Year 4,Year 5,Year 6
END:VEVENT
BEGIN:VEVENT
DTSTART;VALUE=DATE:20250224
DTEND;VALUE=DATE:20250307
DTSTAMP:20260424T022509
CREATED:20240203T105208Z
LAST-MODIFIED:20250204T203602Z
UID:2887-1740355200-1741305599@holnechase.com
SUMMARY:READATHON
DESCRIPTION:Children will be completing their Readathon challenge in school each day. \nPlease ensure that your child is collecting sponsors to complete the event!
URL:https://holnechase.com/event/readathon/
LOCATION:County
CATEGORIES:Early Years,Year 1,Year 2,Year 3,Year 4,Year 5,Year 6
ORGANIZER;CN="Friends of Holne Chase":MAILTO:fohc@holnechase.org
END:VEVENT
BEGIN:VEVENT
DTSTART;VALUE=DATE:20250224
DTEND;VALUE=DATE:20250225
DTSTAMP:20260424T022509
CREATED:20250204T203203Z
LAST-MODIFIED:20250204T203228Z
UID:3660-1740355200-1740441599@holnechase.com
SUMMARY:Inside Out Day
DESCRIPTION:An enrichment day where children will be learning about the different emotions and strategies for coping with them. Children are invited to come to school dressed as one of the characters or in a colour of one of the characters.
URL:https://holnechase.com/event/inside-out-day/
LOCATION:Holne Chase Primary School\, Buckingham Road\, Milton Keynes\, County\, MK3 5HP\, United Kingdom
CATEGORIES:Early Years,Year 1,Year 2,Year 3,Year 4,Year 5,Year 6
ORGANIZER;CN="Holne Chase School":MAILTO:office@holnechase.org
END:VEVENT
BEGIN:VEVENT
DTSTART;VALUE=DATE:20250224
DTEND;VALUE=DATE:20250225
DTSTAMP:20260424T022509
CREATED:20240815T140815Z
LAST-MODIFIED:20240815T140815Z
UID:3378-1740355200-1740441599@holnechase.com
SUMMARY:First Day of Spring 2
DESCRIPTION:
URL:https://holnechase.com/event/first-day-of-spring-2/
LOCATION:County
CATEGORIES:Early Years,Year 1,Year 2,Year 3,Year 4,Year 5,Year 6
END:VEVENT
BEGIN:VEVENT
DTSTART;VALUE=DATE:20250214
DTEND;VALUE=DATE:20250215
DTSTAMP:20260424T022509
CREATED:20240815T140743Z
LAST-MODIFIED:20240815T140743Z
UID:3376-1739491200-1739577599@holnechase.com
SUMMARY:Last Day of Spring 1
DESCRIPTION:
URL:https://holnechase.com/event/last-day-of-spring-1/
LOCATION:County
CATEGORIES:Early Years,Year 1,Year 2,Year 3,Year 4,Year 5,Year 6
END:VEVENT
BEGIN:VEVENT
DTSTART;VALUE=DATE:20250213
DTEND;VALUE=DATE:20250214
DTSTAMP:20260424T022509
CREATED:20240815T140719Z
LAST-MODIFIED:20240815T140719Z
UID:3374-1739404800-1739491199@holnechase.com
SUMMARY:Dojo Reward - Circus Skills
DESCRIPTION:
URL:https://holnechase.com/event/dojo-reward-circus-skills/
LOCATION:County
CATEGORIES:Early Years,Year 1,Year 2,Year 3,Year 4,Year 5,Year 6
END:VEVENT
BEGIN:VEVENT
DTSTART;VALUE=DATE:20250207
DTEND;VALUE=DATE:20250208
DTSTAMP:20260424T022509
CREATED:20250204T203318Z
LAST-MODIFIED:20250204T203318Z
UID:3662-1738886400-1738972799@holnechase.com
SUMMARY:Chinese New Year Dance Workshops
DESCRIPTION:
URL:https://holnechase.com/event/chinese-new-year-dance-workshops/
LOCATION:County
CATEGORIES:Early Years,Year 1,Year 2,Year 3,Year 4,Year 5,Year 6
END:VEVENT
BEGIN:VEVENT
DTSTART;TZID=Europe/London:20250127T190000
DTEND;TZID=Europe/London:20250127T203000
DTSTAMP:20260424T022509
CREATED:20240916T191701Z
LAST-MODIFIED:20241121T165536Z
UID:3469-1738004400-1738009800@holnechase.com
SUMMARY:Families in Partnership Meeting
DESCRIPTION:Come and speak to Trust and School Leaders to find out updates about the school and offer opportunities to share your thoughts and opinions.
URL:https://holnechase.com/event/families-in-partnership-meeting/
LOCATION:Holne Chase Primary School\, Buckingham Road\, Milton Keynes\, County\, MK3 5HP\, United Kingdom
CATEGORIES:Early Years,Year 1,Year 2,Year 3,Year 4,Year 5,Year 6
ORGANIZER;CN="Holne Chase School":MAILTO:office@holnechase.org
END:VEVENT
BEGIN:VEVENT
DTSTART;VALUE=DATE:20250107
DTEND;VALUE=DATE:20250108
DTSTAMP:20260424T022509
CREATED:20240815T140639Z
LAST-MODIFIED:20240815T140639Z
UID:3372-1736208000-1736294399@holnechase.com
SUMMARY:International Day
DESCRIPTION:
URL:https://holnechase.com/event/international-day/
LOCATION:County
CATEGORIES:Early Years,Year 1,Year 2,Year 3,Year 4,Year 5,Year 6
END:VEVENT
END:VCALENDAR